BEGIN:VCALENDAR
VERSION:2.0
PRODID:-//Prinsjesfestival //NONSGML Events //EN
CALSCALE:GREGORIAN
X-WR-CALNAME:Prinsjesfestival
BEGIN:VEVENT
CREATED:20250527T082751Z
UID:33386
DTEND;VALUE=DATE:19700102T003345
DTSTART;VALUE=DATE:20250913T110000
DTSTAMP:20260424T143805Z
LOCATION:Den Haag\, Centrum
DESCRIPTION:<!-- wp:paragraph -->
<p>Tijdens de gezelligheid van het Prinsjesfestival vind ook de<strong> Week van de Rechtstaat</strong> plaats. Naast de gezellige PrinsjesMarkt, het kunnen bewonderen van de PrinsjesModeshow en het PrinsjesOntbijt, openen maar liefst dertien instituten en instanties die de Rechtsstaat realiseren hun deuren!</p>
<!-- /wp:paragraph --> <!-- wp:paragraph -->
<p>Ga mee op het <strong>Rondje Rechtsstaat</strong> en ontdek <strong>kosteloos en zonder inschrijving</strong> de indrukwekkende gebouwen van organisaties die de kern van onze rechtsstaat vormen. Bezoek de Raad van State, de Raad voor de Rechtspraak, de Tweede Kamer, de Hoge Raad, het Kabinet van de Koning, de Eerste Kamer en nog diverse andere plekken.</p>
<!-- /wp:paragraph --> <!-- wp:paragraph -->
<p>Kom in contact met de mensen die hier dagelijks werken en krijg inzicht in vragen als: hoe komt een rechter tot een uitspraak? En welke cruciale rol vervullen de verschillende instituties? Je kunt deelnemen aan rondleidingen, in gesprek gaan met medewerkers, nagespeelde rechtszaken bijwonen in diverse steden, leren hoe een wet tot stand komt, een unieke foto in toga maken, of de historische Gotische Zaal van de Raad van State bewonderen. Er zijn bovendien talloze andere fascinerende activiteiten voor alle leeftijden!</p>
<!-- /wp:paragraph --> <!-- wp:paragraph -->
<p>Plan je bezoek en ontdek het complete programma op de website van de Week van de Rechtsstaat.</p>
<!-- /wp:paragraph --> <!-- wp:buttons -->
<div class="wp-block-buttons"><!-- wp:button -->
<div class="wp-block-button"><a class="wp-block-button__link wp-element-button" href="https://weekvanderechtsstaat.nl/"><strong>Week van de Rechtsstaat</strong></a></div>
<!-- /wp:button --></div>
<!-- /wp:buttons -->
SUMMARY:Rondje Rechtsstaat
ORGANIZER:Prinsjesfestival
URL;VALUE=URI:https://www.prinsjesfestival.nl/evenementen/rondje-rechtsstaat/
TRANSP:OPAQUE
BEGIN:VALARM
ACTION:DISPLAY
TRIGGER;VALUE=DATE-TIME:20250913T110000
DESCRIPTION:Reminder for Rondje Rechtsstaat
END:VALARM
END:VEVENT
END:VCALENDAR
