BEGIN:VCALENDAR
VERSION:2.0
PRODID:-//Prinsjesfestival //NONSGML Events //EN
CALSCALE:GREGORIAN
X-WR-CALNAME:Prinsjesfestival
BEGIN:VEVENT
CREATED:20250715T103551Z
UID:34009
DTEND;VALUE=DATE:20250910T163000
DTSTART;VALUE=DATE:20250910T133000
DTSTAMP:20260424T143834Z
LOCATION:VOCO Hotel
DESCRIPTION:<!-- wp:paragraph -->
<p><strong>Het Centrum voor Parlementaire Geschiedenis nodigt u uit voor: <em>Democratie onder druk: veertig jaar na de kruisrakettenkwestie </em></strong></p>
<!-- /wp:paragraph --> <!-- wp:list -->
<ul class="wp-block-list"><!-- wp:list-item -->
<li><strong>13.30 </strong>Inloop met koffie/thee </li>
<!-- /wp:list-item --> <!-- wp:list-item -->
<li><strong>14.00 </strong>Woord van welkom door <strong>Ronald Kroeze</strong>, hoogleraar parlementaire geschiedenis en directeur van het Centrum voor Parlementaire Geschiedenis. <em>Tevens lancering van de website over parlementaire geschiedenis ten tijde van de kabinetten-Lubbers (1982-1994). </em></li>
<!-- /wp:list-item --> <!-- wp:list-item -->
<li><strong>14.10 </strong>Inleiding door Lubbers-biograaf en CPG-onderzoeker <strong>Johan van Merriënboer </strong></li>
<!-- /wp:list-item --> <!-- wp:list-item -->
<li><strong>14.20 </strong>Panelgesprek o.l.v. <strong>Laurien Crump</strong>, onderzoeker bij het CPG en gespecialiseerd  in internationale betrekkingen, met oud-parlementariërs uit 1985: <!-- wp:list -->
<ul class="wp-block-list"><!-- wp:list-item -->
<li><strong>Bert de Vries</strong>, CDA-fractievoorzitter Tweede Kamer (1982-1989) </li>
<!-- /wp:list-item --> <!-- wp:list-item -->
<li><strong>Ina Brouwer</strong>, CPN-fractievoorzitter Tweede Kamer (1982-1986) </li>
<!-- /wp:list-item --> <!-- wp:list-item -->
<li><strong>Klaas de Vries</strong>, PvdA-Tweede Kamerlid en woordvoerder defensie (1973-1988) </li>
<!-- /wp:list-item --></ul>
<!-- /wp:list --></li>
<!-- /wp:list-item --> <!-- wp:list-item -->
<li><strong>15.00 </strong>Gelegenheid voor vragen uit de zaal aan het panel </li>
<!-- /wp:list-item --> <!-- wp:list-item -->
<li><strong>15.30 </strong>Afsluitend woord door <strong>Ronald Kroeze </strong></li>
<!-- /wp:list-item --></ul>
<!-- /wp:list --> <!-- wp:paragraph -->
<p>Hierna wordt u een drankje aangeboden. Uw aanwezigheid wordt zeer op prijs gesteld. </p>
<!-- /wp:paragraph --> <!-- wp:paragraph -->
<p></p>
<!-- /wp:paragraph --> <!-- wp:paragraph -->
<p></p>
<!-- /wp:paragraph --> <!-- wp:group {"layout":{"type":"constrained"}} -->
<div class="wp-block-group"><!-- wp:paragraph -->
<p><strong>Aanmelden / Meer informatie </strong></p>
<!-- /wp:paragraph --> <!-- wp:paragraph -->
<p>De capaciteit van de zaal is beperkt. Aanmelding geschiedt op volgorde van binnenkomst. U dient zich  <strong>uiterlijk 1 september </strong>aan te melden bij Maaike van Deelen, managementassistent van het Centrum voor  Parlementaire Geschiedenis: e-mail: maaike.vandeelen[at]ru.nl Ook voor verdere informatie over de website kunt u hier terecht. </p>
<!-- /wp:paragraph --> <!-- wp:paragraph -->
<p><em>Deze activiteit maakt deel uit van het Prinsjesfestival 2025.</em></p>
<!-- /wp:paragraph --></div>
<!-- /wp:group --> <!-- wp:paragraph -->
<p></p>
<!-- /wp:paragraph -->
SUMMARY:Democratie onder druk
ORGANIZER:Prinsjesfestival
URL;VALUE=URI:https://www.prinsjesfestival.nl/evenementen/democratie-onder-druk/
TRANSP:OPAQUE
BEGIN:VALARM
ACTION:DISPLAY
TRIGGER;VALUE=DATE-TIME:20250910T133000
DESCRIPTION:Reminder for Democratie onder druk
END:VALARM
END:VEVENT
END:VCALENDAR
